BEGIN:VCALENDAR
VERSION:2.0
PRODID:-//Urban Bushland Council WA - ECPv6.15.13.1//NONSGML v1.0//EN
CALSCALE:GREGORIAN
METHOD:PUBLISH
X-ORIGINAL-URL:https://www.bushlandperth.org.au
X-WR-CALDESC:Events for Urban Bushland Council WA
REFRESH-INTERVAL;VALUE=DURATION:PT1H
X-Robots-Tag:noindex
X-PUBLISHED-TTL:PT1H
BEGIN:VTIMEZONE
TZID:Australia/Perth
BEGIN:STANDARD
TZOFFSETFROM:+0800
TZOFFSETTO:+0800
TZNAME:AWST
DTSTART:20190101T000000
END:STANDARD
END:VTIMEZONE
BEGIN:VEVENT
DTSTART;TZID=Australia/Perth:20200711T090000
DTEND;TZID=Australia/Perth:20200711T103000
DTSTAMP:20260426T001512
CREATED:20200626T033045Z
LAST-MODIFIED:20200626T033045Z
UID:10000297-1594458000-1594463400@www.bushlandperth.org.au
SUMMARY:Farewell to Ocean Reef Bushland Walk B
DESCRIPTION:New date Saturday 11 July  \nYou are invited to a UBC sponsored GUIDED WALK to say Farewell to Ocean Reef Bushland (ex- Bush Forever 325). This will be led by members of the Joondalup Community Coast Care Forum. \nIn late 2019 the WAPC excised 26 ha of bushland from Bush Forever 325. DWER has recently issued two Clearing Permits as a prelude to the clearing of up to 42 ha for the Ocean Reef Marina development. While August-October is the best time to walk through the area\, it may not be possible to do this once clearing starts. Therefore we will take the opportunity now to walk through the bush now. We will look at some of the locally rare plants and ancient stands of Quandong and Native grape\, an orchard for traditional owners when they lived on the coast. \n   \n  \n  \n  \n  \n  \n  \nCome and see\nYanchep Rose (Diplolanea angustifolia) – southernmost recorded occurrence\,\nCoastal Hop Bush (Dodonaea aptera) – only record in Joondalup\,\nNative Grape (Nitraria billardierei)\,\nGrevillea sp. Ocean Reef – G.vestita x G. crithmifolia hybrid (P1 species)\,                                   – \nHibbertia leptotheca  (P3 species) and lots of\nCoast Beard-heath (Styphelia insularis (prev. Leucopogon insularis)) in flower making a colourful contrast beside Cockies’ Tongue (Templetonia retusa). \nAlso observe the local birds including Osprey and other raptors\, Pacific Gulls\, White Winged Fairy Wrens.\nThen finish with a walk along the cliffs (which will also be destroyed for housing) taking in wonderful views while searching for samphires\, salt bush and the Native grape. \nSemi-strenuous. Stout clothing and footwear required. Toilets on site. Picnic Area available for afterwards. \nPark in the northern end of easternmost row of the boat trailer parking area at the Ocean Reef Boat Harbour along Boat Harbour Quays\, off Ocean Reef Rd. Look for UBC Sign.  No dogs thank you. \nPrint out and bring along this map \n   \n  \n  \n  \n  \n  \n  \n  \n  \nAs the number of participants is limited to 10 per session it is essential you book your ticket now. There is a second walk – accessible from our Events page.
URL:https://www.bushlandperth.org.au/event/farewell-to-ocean-reef-bushland-walk-b/
LOCATION:Boat trailer Car Park\, Boat Harbour Quays\, off Ocean Reef Rd\, Ocean Reef\, WA\, 6027\, Australia
ATTACH;FMTTYPE=image/jpeg:https://www.bushlandperth.org.au/wp-content/uploads/2020/06/Farewell-to-Ocean_Reef_bushland.jpg
ORGANIZER;CN="Urban Bushland Council WA Inc":MAILTO:ubc@bushlandperth.org.au
END:VEVENT
BEGIN:VEVENT
DTSTART;TZID=Australia/Perth:20200705T090000
DTEND;TZID=Australia/Perth:20200705T103000
DTSTAMP:20260426T001513
CREATED:20200626T032609Z
LAST-MODIFIED:20200626T032609Z
UID:10000298-1593939600-1593945000@www.bushlandperth.org.au
SUMMARY:Farewell to Ocean Reef Bushland Walk A
DESCRIPTION:New date Sunday 5 July  \nYou are invited to a UBC sponsored GUIDED WALK to say Farewell to Ocean Reef Bushland (ex- Bush Forever 325). This will be led by members of the Joondalup Community Coast Care Forum. \nIn late 2019 the WAPC excised 26 ha of bushland from Bush Forever 325. DWER has recently issued two Clearing Permits as a prelude to the clearing of up to 42 ha for the Ocean Reef Marina development. While August-October is the best time to walk through the area\, it may not be possible to do this once clearing starts. Therefore we will take the opportunity now to walk through the bush now. We will look at some of the locally rare plants and ancient stands of Quandong and Native grape\, an orchard for traditional owners when they lived on the coast. \n   \n  \n  \n  \n  \n  \n  \nCome and see\nYanchep Rose (Diplolanea angustifolia) – southernmost recorded occurrence\,\nCoastal Hop Bush (Dodonaea aptera) – only record in Joondalup\,\nNative Grape (Nitraria billardierei)\,\nGrevillea sp. Ocean Reef – G.vestita x G. crithmifolia hybrid (P1 species)\,                                   – \nHibbertia leptotheca  (P3 species) and lots of\nCoast Beard-heath (Styphelia insularis (prev. Leucopogon insularis)) in flower making a colourful contrast beside Cockies’ Tongue (Templetonia retusa). \nAlso observe the local birds including Osprey and other raptors\, Pacific Gulls\, White Winged Fairy Wrens.\nThen finish with a walk along the cliffs (which will also be destroyed for housing) taking in wonderful views while searching for samphires\, salt bush and the Native grape. \nSemi-strenuous. Stout clothing and footwear required. Toilets on site. Picnic Area available for afterwards. \nPark in the northern end of easternmost row of the boat trailer parking area at the Ocean Reef Boat Harbour along Boat Harbour Quays\, off Ocean Reef Rd. Look for UBC Sign.  No dogs thank you. \nPrint out and bring along this map \n   \n  \n  \n  \n  \n  \n  \n  \n  \nAs the number of participants is limited to 10 per session it is essential you book your ticket now. There is a second walk – accessible from our Events page.
URL:https://www.bushlandperth.org.au/event/farewell-to-ocean-reef-bushland-walk-a/
LOCATION:Boat trailer Car Park\, Boat Harbour Quays\, off Ocean Reef Rd\, Ocean Reef\, WA\, 6027\, Australia
ATTACH;FMTTYPE=image/jpeg:https://www.bushlandperth.org.au/wp-content/uploads/2020/06/Farewell-to-Ocean_Reef_bushland.jpg
ORGANIZER;CN="Urban Bushland Council WA Inc":MAILTO:ubc@bushlandperth.org.au
END:VEVENT
BEGIN:VEVENT
DTSTART;TZID=Australia/Perth:20200627T110000
DTEND;TZID=Australia/Perth:20200627T123000
DTSTAMP:20260426T001513
CREATED:20200611T051325Z
LAST-MODIFIED:20200626T033143Z
UID:10000291-1593255600-1593261000@www.bushlandperth.org.au
SUMMARY:Farewell to Ocean Reef Bushland Walk 2
DESCRIPTION:POSTPONED: New dates Sunday 5 July or Saturday 11 July – check out new dates here \nYou are invited to a UBC sponsored GUIDED WALK to say Farewell to Ocean Reef Bushland (ex- Bush Forever 325). This will be led by members of the Joondalup Community Coast Care Forum. \nIn late 2019 the WAPC excised 26 ha of bushland from Bush Forever 325. DWER has recently issued two Clearing Permits as a prelude to the clearing of up to 42 ha for the Ocean Reef Marina development. While August-October is the best time to walk through the area\, it may not be possible to do this once clearing starts. Therefore we will take the opportunity now to walk through the bush now. We will look at some of the locally rare plants and ancient stands of Quandong and Native grape\, an orchard for traditional owners when they lived on the coast. \n   \n  \n  \n  \n  \n  \n  \nCome and see\nYanchep Rose (Diplolanea angustifolia) – southernmost recorded occurrence\,\nCoastal Hop Bush (Dodonaea aptera) – only record in Joondalup\,\nNative Grape (Nitraria billardierei)\,\nGrevillea sp. Ocean Reef – G.vestita x G. crithmifolia hybrid (P1 species)\,                                   – \nHibbertia leptotheca  (P3 species) and lots of\nCoast Beard-heath (Styphelia insularis (prev. Leucopogon insularis)) in flower making a colourful contrast beside Cockies’ Tongue (Templetonia retusa). \nAlso observe the local birds including Osprey and other raptors\, Pacific Gulls\, White Winged Fairy Wrens.\nThen finish with a walk along the cliffs (which will also be destroyed for housing) taking in wonderful views while searching for samphires\, salt bush and the Native grape. \nSemi-strenuous. Stout clothing and footwear required. Toilets on site. Picnic Area available for afterwards. \nPark in the northern end of easternmost row of the boat trailer parking area at the Ocean Reef Boat Harbour along Boat Harbour Quays\, off Ocean Reef Rd. Look for UBC Sign.  No dogs thank you. \nAs the number of participants is limited to 10 per session it is essential you book your ticket now. There is a second walk – accessible from our Events page. \nPrint out and bring along this map \n   \n  \n  \n  \n  \n  \n 
URL:https://www.bushlandperth.org.au/event/farewell-to-ocean-reef-bushland-walk-2/
LOCATION:Boat trailer Car Park\, Boat Harbour Quays\, off Ocean Reef Rd\, Ocean Reef\, WA\, 6027\, Australia
ATTACH;FMTTYPE=image/jpeg:https://www.bushlandperth.org.au/wp-content/uploads/2020/06/Farewell-to-Ocean_Reef_bushland.jpg
ORGANIZER;CN="Urban Bushland Council WA Inc":MAILTO:ubc@bushlandperth.org.au
END:VEVENT
BEGIN:VEVENT
DTSTART;TZID=Australia/Perth:20200627T090000
DTEND;TZID=Australia/Perth:20200627T103000
DTSTAMP:20260426T001513
CREATED:20200611T044839Z
LAST-MODIFIED:20200626T031810Z
UID:10000293-1593248400-1593253800@www.bushlandperth.org.au
SUMMARY:Farewell to Ocean Reef Bushland Walk 1
DESCRIPTION:POSTPONED: New dates Sunday 5 July or Saturday 11 July – check out new dates here \nYou are invited to a UBC sponsored GUIDED WALK to say Farewell to Ocean Reef Bushland (ex- Bush Forever 325). This will be led by members of the Joondalup Community Coast Care Forum. \nIn late 2019 the WAPC excised 26 ha of bushland from Bush Forever 325. DWER has recently issued two Clearing Permits as a prelude to the clearing of up to 42 ha for the Ocean Reef Marina development. While August-October is the best time to walk through the area\, it may not be possible to do this once clearing starts. Therefore we will take the opportunity now to walk through the bush now. We will look at some of the locally rare plants and ancient stands of Quandong and Native grape\, an orchard for traditional owners when they lived on the coast. \n   \n  \n  \n  \n  \n  \n  \nCome and see\nYanchep Rose (Diplolanea angustifolia) – southernmost recorded occurrence\,\nCoastal Hop Bush (Dodonaea aptera) – only record in Joondalup\,\nNative Grape (Nitraria billardierei)\,\nGrevillea sp. Ocean Reef – G.vestita x G. crithmifolia hybrid (P1 species)\,                                   – \nHibbertia leptotheca  (P3 species) and lots of\nCoast Beard-heath (Styphelia insularis (prev. Leucopogon insularis)) in flower making a colourful contrast beside Cockies’ Tongue (Templetonia retusa). \nAlso observe the local birds including Osprey and other raptors\, Pacific Gulls\, White Winged Fairy Wrens.\nThen finish with a walk along the cliffs (which will also be destroyed for housing) taking in wonderful views while searching for samphires\, salt bush and the Native grape. \nSemi-strenuous. Stout clothing and footwear required. Toilets on site. Picnic Area available for afterwards. \nPark in the northern end of easternmost row of the boat trailer parking area at the Ocean Reef Boat Harbour along Boat Harbour Quays\, off Ocean Reef Rd. Look for UBC Sign.  No dogs thank you. \nPrint out and bring along this map \n   \n  \n  \n  \n  \n  \n  \n  \n  \nAs the number of participants is limited to 10 per session it is essential you book your ticket now. There is a second walk – accessible from our Events page.
URL:https://www.bushlandperth.org.au/event/farewell-to-ocean-reef-bushland-walk-1/
LOCATION:Boat trailer Car Park\, Boat Harbour Quays\, off Ocean Reef Rd\, Ocean Reef\, WA\, 6027\, Australia
ATTACH;FMTTYPE=image/jpeg:https://www.bushlandperth.org.au/wp-content/uploads/2020/06/Farewell-to-Ocean_Reef_bushland.jpg
ORGANIZER;CN="Urban Bushland Council WA Inc":MAILTO:ubc@bushlandperth.org.au
END:VEVENT
END:VCALENDAR