BEGIN:VCALENDAR
VERSION:2.0
PRODID:-//Urban Bushland Council WA - ECPv6.15.13.1//NONSGML v1.0//EN
CALSCALE:GREGORIAN
METHOD:PUBLISH
X-ORIGINAL-URL:https://www.bushlandperth.org.au
X-WR-CALDESC:Events for Urban Bushland Council WA
REFRESH-INTERVAL;VALUE=DURATION:PT1H
X-Robots-Tag:noindex
X-PUBLISHED-TTL:PT1H
BEGIN:VTIMEZONE
TZID:Australia/Perth
BEGIN:STANDARD
TZOFFSETFROM:+0800
TZOFFSETTO:+0800
TZNAME:AWST
DTSTART:20250101T000000
END:STANDARD
END:VTIMEZONE
BEGIN:VEVENT
DTSTART;TZID=Australia/Perth:20260524T100000
DTEND;TZID=Australia/Perth:20260524T120000
DTSTAMP:20260422T210652
CREATED:20260422T095331Z
LAST-MODIFIED:20260422T095331Z
UID:10000755-1779616800-1779624000@www.bushlandperth.org.au
SUMMARY:Volunteer Brunch: Hills to the Coast
DESCRIPTION:Join us as we come together during National Volunteer Week 2026 to recognise and celebrate the many years of dedication shown by our bushcarers. \nThis is a special opportunity to acknowledge those who give so generously of their time and energy to care and advocate for our precious bushlands – often in tough conditions\, always with deep commitment to the natural environment. A chance to connect with fellow volunteers\, acknowledge shared achievements and look ahead to the future of bushcare\, including volunteer recruitment and supporting the next generation of carers. \nUBC’s co-hosts are: \n\nNature Reserves Preservation Group (Kalamunda)\nFriends of Brixton Street Wetlands (Gosnells)\nFriends of the Shelley Rossmoyne Foreshore (Canning)\nWildflower Society of WA – Armadale Branch (Armadale).\n\nTheir members ‘work’ within the catchment of the Yule Brook\, an important waterway that originates as Upper Lesmurdie Falls and empties into the Canning River.  Along the way it feeds the Greater Brixton Street Wetlands – an extraordinary area that contains around half of Greater Perth’s floral species in just 1% of the region. Collectively\, these organisations represent more than 195 years of urban conservation experience\, protecting bushland under increasing pressure from climate change and development – just like you! \nSponsored by: \n   \n  \n  \n  \n  \n  \nPlease register by 15 May so that we can sort out catering.
URL:https://www.bushlandperth.org.au/event/volunteer-brunch-hills-to-the-coast/
LOCATION:Connect@Kenwick\, 231 Brixton Street\, Kenwick\, WA\, 6107\, Australia
ATTACH;FMTTYPE=image/jpeg:https://www.bushlandperth.org.au/wp-content/uploads/2026/04/2013-CRREPA-Bushcare-Major-Day-out-8-9-13-Colma-full-600.jpg
ORGANIZER;CN="Urban Bushland Council WA Inc":MAILTO:ubc@bushlandperth.org.au
END:VEVENT
END:VCALENDAR