BEGIN:VCALENDAR
VERSION:2.0
PRODID:-//Urban Bushland Council WA - ECPv6.15.13.1//NONSGML v1.0//EN
CALSCALE:GREGORIAN
METHOD:PUBLISH
X-WR-CALNAME:Urban Bushland Council WA
X-ORIGINAL-URL:https://www.bushlandperth.org.au
X-WR-CALDESC:Events for Urban Bushland Council WA
REFRESH-INTERVAL;VALUE=DURATION:PT1H
X-Robots-Tag:noindex
X-PUBLISHED-TTL:PT1H
BEGIN:VTIMEZONE
TZID:Australia/Perth
BEGIN:STANDARD
TZOFFSETFROM:+0800
TZOFFSETTO:+0800
TZNAME:AWST
DTSTART:20180101T000000
END:STANDARD
END:VTIMEZONE
BEGIN:VEVENT
DTSTART;TZID=Australia/Perth:20191020T090000
DTEND;TZID=Australia/Perth:20191020T120000
DTSTAMP:20260425T211651
CREATED:20190823T084602Z
LAST-MODIFIED:20190825T130612Z
UID:10000303-1571562000-1571572800@www.bushlandperth.org.au
SUMMARY:Anstey-Keane Walk
DESCRIPTION:Join UBC and Friends of Forrestdale for a walk through the urban treasure of Anstey Keane damplands. \nIt is the second most floristically diverse Bush Forever site on the Swan Coastal Plain and has more plant species than Kings Park.  More importantly\, its vegetation is in excellent condition. It is an area of high biological importance. \nYou will be guided by locals\, David and Bryony who love this bushland and are fighting to stop human incursions. They will show us some special places. Bring some morning tea for a stop along the way. The thick sand can be quite difficult to walk through in places. \nMeeting point: corner of Anstey Road and Keane Road \nImage credit – Brett Glossop.
URL:https://www.bushlandperth.org.au/event/anstey-keane-walk/
LOCATION:Keane Rd & Anstey Rd\, Forrestdale\, Keane Rd and Anstey Road\, Southern River\, Australia
ATTACH;FMTTYPE=image/jpeg:https://www.bushlandperth.org.au/wp-content/uploads/2018/02/Anstey_Keane_Dampland_IMG_3695_Brett_Glossop-Final-2.jpg
ORGANIZER;CN="Urban Bushland Council WA Inc":MAILTO:ubc@bushlandperth.org.au
END:VEVENT
END:VCALENDAR